BEGIN:VCALENDAR
VERSION:2.0
PRODID:-//Zoerdoef - ECPv5.7.0//NONSGML v1.0//EN
CALSCALE:GREGORIAN
METHOD:PUBLISH
X-WR-CALNAME:Zoerdoef
X-ORIGINAL-URL:https://zoerdoef.com
X-WR-CALDESC:Events for Zoerdoef
BEGIN:VTIMEZONE
TZID:UTC
BEGIN:STANDARD
TZOFFSETFROM:+0000
TZOFFSETTO:+0000
TZNAME:UTC
DTSTART:20180101T000000
END:STANDARD
END:VTIMEZONE
BEGIN:VEVENT
DTSTART;VALUE=DATE:20180616
DTEND;VALUE=DATE:20180617
DTSTAMP:20260423T120945
CREATED:20210901T223617Z
LAST-MODIFIED:20210901T223617Z
UID:660-1529107200-1529193599@zoerdoef.com
SUMMARY:Zoerdoef Makiti
DESCRIPTION:Ons is meer as dankbaar dat julle ons geleentheid bygewoon het.  Ons hoop dat julle die ervaring geniet het.
URL:https://zoerdoef.com/event/zoerdoef-makiti-2/
LOCATION:Function @ The Junction\, Plot 105\, Apiesrivier Rd\, Pretoria\, Gauteng\, South Africa
CATEGORIES:Zoerdoef Makiti
END:VEVENT
END:VCALENDAR